BEGIN:VCALENDAR
VERSION:2.0
PRODID:-//Carers&#039; Society Otago | 03 4716204 - ECPv4.6.8//NONSGML v1.0//EN
CALSCALE:GREGORIAN
METHOD:PUBLISH
X-WR-CALNAME:Carers&#039; Society Otago | 03 4716204
X-ORIGINAL-URL:http://carersotago.org.nz
X-WR-CALDESC:Events for Carers&#039; Society Otago | 03 4716204
BEGIN:VEVENT
DTSTART;TZID=Pacific/Auckland:20170926T100000
DTEND;TZID=Pacific/Auckland:20170926T233000
DTSTAMP:20180121T230719
CREATED:20170829T231536Z
LAST-MODIFIED:20170829T231557Z
UID:1083-1506420000-1506468600@carersotago.org.nz
SUMMARY:Walking Group
DESCRIPTION:We meet at 10 am at St Clair salt water pool cafe on Tuesday September 26. \nJoin us for a coffee if you dont want to do the walk. \nAll carers welcome. \n
URL:http://carersotago.org.nz/?tribe_events=walking-group-4
END:VEVENT
END:VCALENDAR