BEGIN:VCALENDAR
VERSION:2.0
PRODID:-//Carers&#039; Society Otago | 03 4716204 - ECPv4.6.8//NONSGML v1.0//EN
CALSCALE:GREGORIAN
METHOD:PUBLISH
X-WR-CALNAME:Carers&#039; Society Otago | 03 4716204
X-ORIGINAL-URL:http://carersotago.org.nz
X-WR-CALDESC:Events for Carers&#039; Society Otago | 03 4716204
BEGIN:VEVENT
DTSTART;TZID=Pacific/Auckland:20180315T173000
DTEND;TZID=Pacific/Auckland:20180315T190000
DTSTAMP:20180121T225435
CREATED:20180118T005538Z
LAST-MODIFIED:20180118T005542Z
UID:1153-1521135000-1521140400@carersotago.org.nz
SUMMARY:Young Carers' Group
DESCRIPTION:Please contact Susan or Anneloes for details about this group. \n
URL:http://carersotago.org.nz/?tribe_events=young-carers-group-46
END:VEVENT
END:VCALENDAR